BEGIN:VCALENDAR
VERSION:2.0
PRODID:-//Beautiful Savior - ECPv6.15.20//NONSGML v1.0//EN
CALSCALE:GREGORIAN
METHOD:PUBLISH
X-WR-CALNAME:Beautiful Savior
X-ORIGINAL-URL:https://mybeautifulsaviorschool.com
X-WR-CALDESC:Events for Beautiful Savior
REFRESH-INTERVAL;VALUE=DURATION:PT1H
X-Robots-Tag:noindex
X-PUBLISHED-TTL:PT1H
BEGIN:VTIMEZONE
TZID:America/Los_Angeles
BEGIN:DAYLIGHT
TZOFFSETFROM:-0800
TZOFFSETTO:-0700
TZNAME:PDT
DTSTART:20240310T100000
END:DAYLIGHT
BEGIN:STANDARD
TZOFFSETFROM:-0700
TZOFFSETTO:-0800
TZNAME:PST
DTSTART:20241103T090000
END:STANDARD
BEGIN:DAYLIGHT
TZOFFSETFROM:-0800
TZOFFSETTO:-0700
TZNAME:PDT
DTSTART:20250309T100000
END:DAYLIGHT
BEGIN:STANDARD
TZOFFSETFROM:-0700
TZOFFSETTO:-0800
TZNAME:PST
DTSTART:20251102T090000
END:STANDARD
BEGIN:DAYLIGHT
TZOFFSETFROM:-0800
TZOFFSETTO:-0700
TZNAME:PDT
DTSTART:20260308T100000
END:DAYLIGHT
BEGIN:STANDARD
TZOFFSETFROM:-0700
TZOFFSETTO:-0800
TZNAME:PST
DTSTART:20261101T090000
END:STANDARD
END:VTIMEZONE
BEGIN:VEVENT
DTSTART;TZID=America/Los_Angeles:20250917T100000
DTEND;TZID=America/Los_Angeles:20250917T113000
DTSTAMP:20260423T185433
CREATED:20250815T203515Z
LAST-MODIFIED:20250815T203515Z
UID:1458-1758103200-1758108600@mybeautifulsaviorschool.com
SUMMARY:Soccer Shots
DESCRIPTION:
URL:https://mybeautifulsaviorschool.com/event/soccer-shots-35/
END:VEVENT
BEGIN:VEVENT
DTSTART;TZID=America/Los_Angeles:20250918T180000
DTEND;TZID=America/Los_Angeles:20250918T190000
DTSTAMP:20260423T185433
CREATED:20250815T203545Z
LAST-MODIFIED:20250815T203545Z
UID:1460-1758218400-1758222000@mybeautifulsaviorschool.com
SUMMARY:Open House
DESCRIPTION:
URL:https://mybeautifulsaviorschool.com/event/open-house-4/
END:VEVENT
END:VCALENDAR