BEGIN:VCALENDAR
VERSION:2.0
PRODID:-//Beautiful Savior - ECPv6.15.20//NONSGML v1.0//EN
CALSCALE:GREGORIAN
METHOD:PUBLISH
X-WR-CALNAME:Beautiful Savior
X-ORIGINAL-URL:https://mybeautifulsaviorschool.com
X-WR-CALDESC:Events for Beautiful Savior
REFRESH-INTERVAL;VALUE=DURATION:PT1H
X-Robots-Tag:noindex
X-PUBLISHED-TTL:PT1H
BEGIN:VTIMEZONE
TZID:America/Los_Angeles
BEGIN:DAYLIGHT
TZOFFSETFROM:-0800
TZOFFSETTO:-0700
TZNAME:PDT
DTSTART:20250309T100000
END:DAYLIGHT
BEGIN:STANDARD
TZOFFSETFROM:-0700
TZOFFSETTO:-0800
TZNAME:PST
DTSTART:20251102T090000
END:STANDARD
BEGIN:DAYLIGHT
TZOFFSETFROM:-0800
TZOFFSETTO:-0700
TZNAME:PDT
DTSTART:20260308T100000
END:DAYLIGHT
BEGIN:STANDARD
TZOFFSETFROM:-0700
TZOFFSETTO:-0800
TZNAME:PST
DTSTART:20261101T090000
END:STANDARD
BEGIN:DAYLIGHT
TZOFFSETFROM:-0800
TZOFFSETTO:-0700
TZNAME:PDT
DTSTART:20270314T100000
END:DAYLIGHT
BEGIN:STANDARD
TZOFFSETFROM:-0700
TZOFFSETTO:-0800
TZNAME:PST
DTSTART:20271107T090000
END:STANDARD
END:VTIMEZONE
BEGIN:VEVENT
DTSTART;TZID=America/Los_Angeles:20260122T100000
DTEND;TZID=America/Los_Angeles:20260122T113000
DTSTAMP:20260423T124342
CREATED:20250820T205727Z
LAST-MODIFIED:20250820T205727Z
UID:1489-1769076000-1769081400@mybeautifulsaviorschool.com
SUMMARY:Soccer Shots
DESCRIPTION:
URL:https://mybeautifulsaviorschool.com/event/soccer-shots-39/
END:VEVENT
BEGIN:VEVENT
DTSTART;TZID=America/Los_Angeles:20260127T073000
DTEND;TZID=America/Los_Angeles:20260127T090000
DTSTAMP:20260423T124342
CREATED:20250820T205029Z
LAST-MODIFIED:20250820T205029Z
UID:1486-1769499000-1769504400@mybeautifulsaviorschool.com
SUMMARY:Parent Coffee Hour
DESCRIPTION:
URL:https://mybeautifulsaviorschool.com/event/parent-coffee-hour-13/
END:VEVENT
END:VCALENDAR