BEGIN:VCALENDAR
VERSION:2.0
PRODID:-//Beautiful Savior - ECPv6.15.20//NONSGML v1.0//EN
CALSCALE:GREGORIAN
METHOD:PUBLISH
X-ORIGINAL-URL:https://mybeautifulsaviorschool.com
X-WR-CALDESC:Events for Beautiful Savior
REFRESH-INTERVAL;VALUE=DURATION:PT1H
X-Robots-Tag:noindex
X-PUBLISHED-TTL:PT1H
BEGIN:VTIMEZONE
TZID:America/Los_Angeles
BEGIN:DAYLIGHT
TZOFFSETFROM:-0800
TZOFFSETTO:-0700
TZNAME:PDT
DTSTART:20250309T100000
END:DAYLIGHT
BEGIN:STANDARD
TZOFFSETFROM:-0700
TZOFFSETTO:-0800
TZNAME:PST
DTSTART:20251102T090000
END:STANDARD
BEGIN:DAYLIGHT
TZOFFSETFROM:-0800
TZOFFSETTO:-0700
TZNAME:PDT
DTSTART:20260308T100000
END:DAYLIGHT
BEGIN:STANDARD
TZOFFSETFROM:-0700
TZOFFSETTO:-0800
TZNAME:PST
DTSTART:20261101T090000
END:STANDARD
BEGIN:DAYLIGHT
TZOFFSETFROM:-0800
TZOFFSETTO:-0700
TZNAME:PDT
DTSTART:20270314T100000
END:DAYLIGHT
BEGIN:STANDARD
TZOFFSETFROM:-0700
TZOFFSETTO:-0800
TZNAME:PST
DTSTART:20271107T090000
END:STANDARD
END:VTIMEZONE
BEGIN:VEVENT
DTSTART;TZID=America/Los_Angeles:20260211T180000
DTEND;TZID=America/Los_Angeles:20260211T190000
DTSTAMP:20260423T112432
CREATED:20250820T210415Z
LAST-MODIFIED:20250820T210415Z
UID:1491-1770832800-1770836400@mybeautifulsaviorschool.com
SUMMARY:Bedtime Story Night
DESCRIPTION:
URL:https://mybeautifulsaviorschool.com/event/bedtime-story-night-2/
END:VEVENT
BEGIN:VEVENT
DTSTART;TZID=America/Los_Angeles:20260212T113000
DTEND;TZID=America/Los_Angeles:20260212T130000
DTSTAMP:20260423T112432
CREATED:20250820T210452Z
LAST-MODIFIED:20250820T210452Z
UID:1494-1770895800-1770901200@mybeautifulsaviorschool.com
SUMMARY:Valentine's Day Party
DESCRIPTION:
URL:https://mybeautifulsaviorschool.com/event/valentines-day-party/
END:VEVENT
BEGIN:VEVENT
DTSTART;TZID=America/Los_Angeles:20260217T100000
DTEND;TZID=America/Los_Angeles:20260217T113000
DTSTAMP:20260423T112432
CREATED:20250820T210525Z
LAST-MODIFIED:20250820T210605Z
UID:1496-1771322400-1771327800@mybeautifulsaviorschool.com
SUMMARY:Soccer Shots
DESCRIPTION:
URL:https://mybeautifulsaviorschool.com/event/soccer-shots-40/
END:VEVENT
END:VCALENDAR